BEGIN:VCALENDAR
VERSION:2.0
PRODID:-//The Potter&#039;s House Church Milton Keynes - ECPv6.3.7//NONSGML v1.0//EN
CALSCALE:GREGORIAN
METHOD:PUBLISH
X-WR-CALNAME:The Potter&#039;s House Church Milton Keynes
X-ORIGINAL-URL:https://phmk.co.uk
X-WR-CALDESC:Events for The Potter&#039;s House Church Milton Keynes
REFRESH-INTERVAL;VALUE=DURATION:PT1H
X-Robots-Tag:noindex
X-PUBLISHED-TTL:PT1H
BEGIN:VTIMEZONE
TZID:Europe/London
BEGIN:DAYLIGHT
TZOFFSETFROM:+0000
TZOFFSETTO:+0100
TZNAME:BST
DTSTART:20230326T010000
END:DAYLIGHT
BEGIN:STANDARD
TZOFFSETFROM:+0100
TZOFFSETTO:+0000
TZNAME:GMT
DTSTART:20231029T010000
END:STANDARD
END:VTIMEZONE
BEGIN:VEVENT
DTSTART;TZID=Europe/London:20230409T140000
DTEND;TZID=Europe/London:20230409T153000
DTSTAMP:20260423T004905
CREATED:20230404T175334Z
LAST-MODIFIED:20230404T180050Z
UID:1467-1681048800-1681054200@phmk.co.uk
SUMMARY:Sunday Easter Service
DESCRIPTION:Sunday Easter Service 09/04/20423
URL:https://phmk.co.uk/event/sunday-easter-service/
LOCATION:Fenny Stratford Community Centre\, 13 George St\, Fenny Stratford\, Bletchley\, Milton Keyne\, MK2 2NR
END:VEVENT
BEGIN:VEVENT
DTSTART;TZID=Europe/London:20230409T180000
DTEND;TZID=Europe/London:20230409T190000
DTSTAMP:20260423T004905
CREATED:20230404T175800Z
LAST-MODIFIED:20230404T175932Z
UID:1474-1681063200-1681066800@phmk.co.uk
SUMMARY:Sunday Evening Miracle Healing Service
DESCRIPTION:Sunday Evening Miracle Healing Service 09/04/2023
URL:https://phmk.co.uk/event/sunday-evening-miracle-healing-service/
LOCATION:Fenny Stratford Community Centre\, 13 George St\, Fenny Stratford\, Bletchley\, Milton Keyne\, MK2 2NR
END:VEVENT
END:VCALENDAR