BEGIN:VCALENDAR
VERSION:2.0
PRODID:-//The Potter&#039;s House Church Milton Keynes - ECPv6.3.7//NONSGML v1.0//EN
CALSCALE:GREGORIAN
METHOD:PUBLISH
X-WR-CALNAME:The Potter&#039;s House Church Milton Keynes
X-ORIGINAL-URL:https://phmk.co.uk
X-WR-CALDESC:Events for The Potter&#039;s House Church Milton Keynes
REFRESH-INTERVAL;VALUE=DURATION:PT1H
X-Robots-Tag:noindex
X-PUBLISHED-TTL:PT1H
BEGIN:VTIMEZONE
TZID:Europe/London
BEGIN:DAYLIGHT
TZOFFSETFROM:+0000
TZOFFSETTO:+0100
TZNAME:BST
DTSTART:20230326T010000
END:DAYLIGHT
BEGIN:STANDARD
TZOFFSETFROM:+0100
TZOFFSETTO:+0000
TZNAME:GMT
DTSTART:20231029T010000
END:STANDARD
END:VTIMEZONE
BEGIN:VEVENT
DTSTART;TZID=Europe/London:20230701T180000
DTEND;TZID=Europe/London:20230701T190000
DTSTAMP:20260422T195858
CREATED:20230627T152728Z
LAST-MODIFIED:20230627T152728Z
UID:1566-1688234400-1688238000@phmk.co.uk
SUMMARY:Gospel Concert - Soundz - 1st July @ 18:00
DESCRIPTION:
URL:https://phmk.co.uk/event/gospel-concert-soundz-1st-july-1800/
END:VEVENT
END:VCALENDAR