BEGIN:VCALENDAR
VERSION:2.0
PRODID:-//The Potter&#039;s House Church Milton Keynes - ECPv6.3.7//NONSGML v1.0//EN
CALSCALE:GREGORIAN
METHOD:PUBLISH
X-WR-CALNAME:The Potter&#039;s House Church Milton Keynes
X-ORIGINAL-URL:https://phmk.co.uk
X-WR-CALDESC:Events for The Potter&#039;s House Church Milton Keynes
REFRESH-INTERVAL;VALUE=DURATION:PT1H
X-Robots-Tag:noindex
X-PUBLISHED-TTL:PT1H
BEGIN:VTIMEZONE
TZID:Europe/London
BEGIN:DAYLIGHT
TZOFFSETFROM:+0000
TZOFFSETTO:+0100
TZNAME:BST
DTSTART:20230326T010000
END:DAYLIGHT
BEGIN:STANDARD
TZOFFSETFROM:+0100
TZOFFSETTO:+0000
TZNAME:GMT
DTSTART:20231029T010000
END:STANDARD
END:VTIMEZONE
BEGIN:VEVENT
DTSTART;TZID=Europe/London:20230708T113000
DTEND;TZID=Europe/London:20230708T170000
DTSTAMP:20260422T231512
CREATED:20230627T164114Z
LAST-MODIFIED:20230627T164114Z
UID:1579-1688815800-1688835600@phmk.co.uk
SUMMARY:3 - ON - 3 Basketball Tournament
DESCRIPTION:3 – ON – 3 Basketball Tournament \n\nLocation: \nCourtside Sports Hall \nSherwood Drive \nBletchley \nMK3 6DR \n\nWinners Prizes & Players Prizes \n\nRegister your team by :\nEmailing phmiltonkeynes@gmail.com \nTelephone: 07587 410989\n\n\n\n\n\n\n\n\n\n\n\n\n\n\n\n\n		\n							\n						\n				\nDetails
URL:https://phmk.co.uk/event/3-on-3-basketball-tournament/
LOCATION:Courtside Sports Hall\, Courtside Sports Hall. Sherwood Drive\, Bletchley\, MK3 6DR
END:VEVENT
BEGIN:VEVENT
DTSTART;TZID=Europe/London:20230714T193000
DTEND;TZID=Europe/London:20230714T203000
DTSTAMP:20260422T231512
CREATED:20230627T153141Z
LAST-MODIFIED:20230627T153249Z
UID:1569-1689363000-1689366600@phmk.co.uk
SUMMARY:Revival Services With Evangelist Nathen James
DESCRIPTION:Revival Services With Evangelist Nathen James \nFriday 14th July 19:30 – 20:30\nSaturday 15th July 18:00-19:00\nSunday 16th July 14:00-15:00\nSunday 16th July 18:00-19:00\n		\n							\n						\n				\nText Divider
URL:https://phmk.co.uk/event/revival-services-with-evangelist-nathen-james/
LOCATION:Fenny Stratford Community Centre\, 13 George St\, Fenny Stratford\, Bletchley\, Milton Keyne\, MK2 2NR
END:VEVENT
BEGIN:VEVENT
DTSTART;TZID=Europe/London:20230715T180000
DTEND;TZID=Europe/London:20230715T190000
DTSTAMP:20260422T231512
CREATED:20230627T153637Z
LAST-MODIFIED:20230627T153637Z
UID:1574-1689444000-1689447600@phmk.co.uk
SUMMARY:Revival Services With Evangelist Nathen James
DESCRIPTION:Revival Services With Evangelist Nathen James \nFriday 14th July 19:30 – 20:30\nSaturday 15th July 18:00-19:00\nSunday 16th July 14:00-15:00\nSunday 16th July 18:00-19:00\n		\n							\n						\n				\nDetails
URL:https://phmk.co.uk/event/revival-services-with-evangelist-nathen-james-2/
LOCATION:Fenny Stratford Community Centre\, 13 George St\, Fenny Stratford\, Bletchley\, Milton Keyne\, MK2 2NR
END:VEVENT
BEGIN:VEVENT
DTSTART;TZID=Europe/London:20230716T140000
DTEND;TZID=Europe/London:20230716T150000
DTSTAMP:20260422T231512
CREATED:20230627T153843Z
LAST-MODIFIED:20230627T153843Z
UID:1576-1689516000-1689519600@phmk.co.uk
SUMMARY:Revival Services With Evangelist Nathen James
DESCRIPTION:Revival Services With Evangelist Nathen James \nFriday 14th July 19:30 – 20:30\nSaturday 15th July 18:00-19:00\nSunday 16th July 14:00-15:00\nSunday 16th July 18:00-19:00\n		\n							\n						\n				\nDetails
URL:https://phmk.co.uk/event/revival-services-with-evangelist-nathen-james-3/
LOCATION:Fenny Stratford Community Centre\, 13 George St\, Fenny Stratford\, Bletchley\, Milton Keyne\, MK2 2NR
END:VEVENT
END:VCALENDAR